BEGIN:VCALENDAR
VERSION:2.0
PRODID:-//North Fort Myers Civic Association - ECPv6.15.11//NONSGML v1.0//EN
CALSCALE:GREGORIAN
METHOD:PUBLISH
X-WR-CALNAME:North Fort Myers Civic Association
X-ORIGINAL-URL:https://nfmcivic.com
X-WR-CALDESC:Events for North Fort Myers Civic Association
REFRESH-INTERVAL;VALUE=DURATION:PT1H
X-Robots-Tag:noindex
X-PUBLISHED-TTL:PT1H
BEGIN:VTIMEZONE
TZID:America/New_York
BEGIN:DAYLIGHT
TZOFFSETFROM:-0500
TZOFFSETTO:-0400
TZNAME:EDT
DTSTART:20170312T070000
END:DAYLIGHT
BEGIN:STANDARD
TZOFFSETFROM:-0400
TZOFFSETTO:-0500
TZNAME:EST
DTSTART:20171105T060000
END:STANDARD
BEGIN:DAYLIGHT
TZOFFSETFROM:-0500
TZOFFSETTO:-0400
TZNAME:EDT
DTSTART:20180311T070000
END:DAYLIGHT
BEGIN:STANDARD
TZOFFSETFROM:-0400
TZOFFSETTO:-0500
TZNAME:EST
DTSTART:20181104T060000
END:STANDARD
BEGIN:DAYLIGHT
TZOFFSETFROM:-0500
TZOFFSETTO:-0400
TZNAME:EDT
DTSTART:20190310T070000
END:DAYLIGHT
BEGIN:STANDARD
TZOFFSETFROM:-0400
TZOFFSETTO:-0500
TZNAME:EST
DTSTART:20191103T060000
END:STANDARD
END:VTIMEZONE
BEGIN:VEVENT
DTSTART;TZID=America/New_York:20180804T180000
DTEND;TZID=America/New_York:20180804T210000
DTSTAMP:20260423T072935
CREATED:20180703T232518Z
LAST-MODIFIED:20180703T234015Z
UID:451-1533405600-1533416400@nfmcivic.com
SUMMARY:Baseball Community Night
DESCRIPTION:
URL:https://nfmcivic.com/event/baseball-community-night/
LOCATION:Century Link Sports Complex\, 14100 Six Mile Cypress Parkway\, Fort Myers\, FL\, 33912\, United States
CATEGORIES:Community Event
END:VEVENT
BEGIN:VEVENT
DTSTART;TZID=America/New_York:20180728T100000
DTEND;TZID=America/New_York:20180728T160000
DTSTAMP:20260423T072935
CREATED:20180704T000048Z
LAST-MODIFIED:20180704T000048Z
UID:454-1532772000-1532793600@nfmcivic.com
SUMMARY:NFM Art Walk
DESCRIPTION:
URL:https://nfmcivic.com/event/nfm-art-walk/
LOCATION:Hancock Bridge Square\, 13350 N Cleveland Ave\, North Fort Myers\, FL\, 33903\, United States
CATEGORIES:Community Event
END:VEVENT
BEGIN:VEVENT
DTSTART;TZID=America/New_York:20180724T180000
DTEND;TZID=America/New_York:20180724T210000
DTSTAMP:20260423T072936
CREATED:20180702T145202Z
LAST-MODIFIED:20180703T235324Z
UID:440-1532455200-1532466000@nfmcivic.com
SUMMARY:Candidate Meet and Greet
DESCRIPTION:Meet the Candidates running for office and who will represent the North Fort Myers area. Meet them\, speak with them\, and listen to their platforms which will be presented on this very informative night.
URL:https://nfmcivic.com/event/candidate-meet-and-greet/
LOCATION:NFM Rec Center\, 2000 N Recreation Park Way\, North Fort Myers\, FL\, 33917
ORGANIZER;CN="NFM Civic Association":MAILTO:nfmcivic@gmail.com
END:VEVENT
BEGIN:VEVENT
DTSTART;TZID=America/New_York:20180710T183000
DTEND;TZID=America/New_York:20180710T203000
DTSTAMP:20260423T072936
CREATED:20180602T133936Z
LAST-MODIFIED:20180705T235448Z
UID:283-1531247400-1531254600@nfmcivic.com
SUMMARY:Meeting
DESCRIPTION:
URL:https://nfmcivic.com/event/meeting/
LOCATION:NFM Rec Center\, 2000 N Recreation Park Way\, North Fort Myers\, FL\, 33917
CATEGORIES:Meeting
ORGANIZER;CN="NFM Civic Association":MAILTO:nfmcivic@gmail.com
END:VEVENT
BEGIN:VEVENT
DTSTART;TZID=America/New_York:20180612T183000
DTEND;TZID=America/New_York:20180612T203000
DTSTAMP:20260423T072936
CREATED:20180602T133202Z
LAST-MODIFIED:20180602T135852Z
UID:278-1528828200-1528835400@nfmcivic.com
SUMMARY:Meeting
DESCRIPTION:
URL:https://nfmcivic.com/event/2018-06-meeting/
LOCATION:NFM Rec Center\, 2000 N Recreation Park Way\, North Fort Myers\, FL\, 33917
CATEGORIES:Meeting
ORGANIZER;CN="NFM Civic Association":MAILTO:nfmcivic@gmail.com
END:VEVENT
END:VCALENDAR