BEGIN:VCALENDAR
VERSION:2.0
PRODID:-//North Fort Myers Civic Association - ECPv6.15.11//NONSGML v1.0//EN
CALSCALE:GREGORIAN
METHOD:PUBLISH
X-ORIGINAL-URL:https://nfmcivic.com
X-WR-CALDESC:Events for North Fort Myers Civic Association
REFRESH-INTERVAL;VALUE=DURATION:PT1H
X-Robots-Tag:noindex
X-PUBLISHED-TTL:PT1H
BEGIN:VTIMEZONE
TZID:America/New_York
BEGIN:DAYLIGHT
TZOFFSETFROM:-0500
TZOFFSETTO:-0400
TZNAME:EDT
DTSTART:20250309T070000
END:DAYLIGHT
BEGIN:STANDARD
TZOFFSETFROM:-0400
TZOFFSETTO:-0500
TZNAME:EST
DTSTART:20251102T060000
END:STANDARD
BEGIN:DAYLIGHT
TZOFFSETFROM:-0500
TZOFFSETTO:-0400
TZNAME:EDT
DTSTART:20260308T070000
END:DAYLIGHT
BEGIN:STANDARD
TZOFFSETFROM:-0400
TZOFFSETTO:-0500
TZNAME:EST
DTSTART:20261101T060000
END:STANDARD
BEGIN:DAYLIGHT
TZOFFSETFROM:-0500
TZOFFSETTO:-0400
TZNAME:EDT
DTSTART:20270314T070000
END:DAYLIGHT
BEGIN:STANDARD
TZOFFSETFROM:-0400
TZOFFSETTO:-0500
TZNAME:EST
DTSTART:20271107T060000
END:STANDARD
END:VTIMEZONE
BEGIN:VEVENT
DTSTART;TZID=America/New_York:20260512T183000
DTEND;TZID=America/New_York:20260512T203000
DTSTAMP:20260422T181812
CREATED:20260115T183220Z
LAST-MODIFIED:20260115T183351Z
UID:2616-1778610600-1778617800@nfmcivic.com
SUMMARY:May Meeting 2026
DESCRIPTION:The NFM community is invited to our monthly meeting as we discuss our upcoming community events and fundraisers\, local government happenings\, and hold a community discussion on how to improve our beautiful NFM neighborhoods!
URL:https://nfmcivic.com/event/may-meeting-2026/
LOCATION:NFM Rec Center\, 2000 N Recreation Park Way\, North Fort Myers\, FL\, 33917
END:VEVENT
BEGIN:VEVENT
DTSTART;TZID=America/New_York:20260609T183000
DTEND;TZID=America/New_York:20260609T203000
DTSTAMP:20260422T181812
CREATED:20260115T183326Z
LAST-MODIFIED:20260115T183326Z
UID:2619-1781029800-1781037000@nfmcivic.com
SUMMARY:June Meeting 2026
DESCRIPTION:The NFM community is invited to our monthly meeting as we discuss our upcoming community events and fundraisers\, local government happenings\, and hold a community discussion on how to improve our beautiful NFM neighborhoods!
URL:https://nfmcivic.com/event/june-meeting-2026/
LOCATION:NFM Rec Center\, 2000 N Recreation Park Way\, North Fort Myers\, FL\, 33917
END:VEVENT
BEGIN:VEVENT
DTSTART;TZID=America/New_York:20260714T203000
DTEND;TZID=America/New_York:20260714T203000
DTSTAMP:20260422T181812
CREATED:20260115T183428Z
LAST-MODIFIED:20260115T183428Z
UID:2622-1784061000-1784061000@nfmcivic.com
SUMMARY:July Meeting 2026
DESCRIPTION:The NFM community is invited to our monthly meeting as we discuss our upcoming community events and fundraisers\, local government happenings\, and hold a community discussion on how to improve our beautiful NFM neighborhoods!
URL:https://nfmcivic.com/event/july-meeting-2026/
LOCATION:NFM Rec Center\, 2000 N Recreation Park Way\, North Fort Myers\, FL\, 33917
END:VEVENT
BEGIN:VEVENT
DTSTART;TZID=America/New_York:20260811T183000
DTEND;TZID=America/New_York:20260811T203000
DTSTAMP:20260422T181812
CREATED:20260115T183453Z
LAST-MODIFIED:20260115T183453Z
UID:2624-1786473000-1786480200@nfmcivic.com
SUMMARY:August Meeting 2026
DESCRIPTION:The NFM community is invited to our monthly meeting as we discuss our upcoming community events and fundraisers\, local government happenings\, and hold a community discussion on how to improve our beautiful NFM neighborhoods!
URL:https://nfmcivic.com/event/august-meeting-2026/
LOCATION:NFM Rec Center\, 2000 N Recreation Park Way\, North Fort Myers\, FL\, 33917
END:VEVENT
BEGIN:VEVENT
DTSTART;TZID=America/New_York:20260908T183000
DTEND;TZID=America/New_York:20260908T203000
DTSTAMP:20260422T181812
CREATED:20260115T183519Z
LAST-MODIFIED:20260115T183519Z
UID:2626-1788892200-1788899400@nfmcivic.com
SUMMARY:September Meeting 2026
DESCRIPTION:The NFM community is invited to our monthly meeting as we discuss our upcoming community events and fundraisers\, local government happenings\, and hold a community discussion on how to improve our beautiful NFM neighborhoods!
URL:https://nfmcivic.com/event/september-meeting-2026/
LOCATION:NFM Rec Center\, 2000 N Recreation Park Way\, North Fort Myers\, FL\, 33917
END:VEVENT
BEGIN:VEVENT
DTSTART;TZID=America/New_York:20261013T183000
DTEND;TZID=America/New_York:20261013T203000
DTSTAMP:20260422T181812
CREATED:20260115T183548Z
LAST-MODIFIED:20260115T183548Z
UID:2628-1791916200-1791923400@nfmcivic.com
SUMMARY:October Meeting 2026
DESCRIPTION:The NFM community is invited to our monthly meeting as we discuss our upcoming community events and fundraisers\, local government happenings\, and hold a community discussion on how to improve our beautiful NFM neighborhoods!
URL:https://nfmcivic.com/event/october-meeting-2026/
LOCATION:NFM Rec Center\, 2000 N Recreation Park Way\, North Fort Myers\, FL\, 33917
END:VEVENT
BEGIN:VEVENT
DTSTART;TZID=America/New_York:20261110T183000
DTEND;TZID=America/New_York:20261110T203000
DTSTAMP:20260422T181812
CREATED:20260115T183616Z
LAST-MODIFIED:20260115T183616Z
UID:2630-1794335400-1794342600@nfmcivic.com
SUMMARY:November Meeting 2026
DESCRIPTION:The NFM community is invited to our monthly meeting as we discuss our upcoming community events and fundraisers\, local government happenings\, and hold a community discussion on how to improve our beautiful NFM neighborhoods!
URL:https://nfmcivic.com/event/november-meeting-2026/
LOCATION:NFM Rec Center\, 2000 N Recreation Park Way\, North Fort Myers\, FL\, 33917
END:VEVENT
BEGIN:VEVENT
DTSTART;TZID=America/New_York:20261208T183000
DTEND;TZID=America/New_York:20261208T203000
DTSTAMP:20260422T181812
CREATED:20260115T183641Z
LAST-MODIFIED:20260115T183641Z
UID:2632-1796754600-1796761800@nfmcivic.com
SUMMARY:December Meeting 2026
DESCRIPTION:The NFM community is invited to our monthly meeting as we discuss our upcoming community events and fundraisers\, local government happenings\, and hold a community discussion on how to improve our beautiful NFM neighborhoods!
URL:https://nfmcivic.com/event/december-meeting-2026/
LOCATION:NFM Rec Center\, 2000 N Recreation Park Way\, North Fort Myers\, FL\, 33917
END:VEVENT
END:VCALENDAR