BEGIN:VCALENDAR
VERSION:2.0
PRODID:-//North Fort Myers Civic Association - ECPv6.15.11//NONSGML v1.0//EN
CALSCALE:GREGORIAN
METHOD:PUBLISH
X-WR-CALNAME:North Fort Myers Civic Association
X-ORIGINAL-URL:https://nfmcivic.com
X-WR-CALDESC:Events for North Fort Myers Civic Association
REFRESH-INTERVAL;VALUE=DURATION:PT1H
X-Robots-Tag:noindex
X-PUBLISHED-TTL:PT1H
BEGIN:VTIMEZONE
TZID:America/New_York
BEGIN:DAYLIGHT
TZOFFSETFROM:-0500
TZOFFSETTO:-0400
TZNAME:EDT
DTSTART:20170312T070000
END:DAYLIGHT
BEGIN:STANDARD
TZOFFSETFROM:-0400
TZOFFSETTO:-0500
TZNAME:EST
DTSTART:20171105T060000
END:STANDARD
BEGIN:DAYLIGHT
TZOFFSETFROM:-0500
TZOFFSETTO:-0400
TZNAME:EDT
DTSTART:20180311T070000
END:DAYLIGHT
BEGIN:STANDARD
TZOFFSETFROM:-0400
TZOFFSETTO:-0500
TZNAME:EST
DTSTART:20181104T060000
END:STANDARD
BEGIN:DAYLIGHT
TZOFFSETFROM:-0500
TZOFFSETTO:-0400
TZNAME:EDT
DTSTART:20190310T070000
END:DAYLIGHT
BEGIN:STANDARD
TZOFFSETFROM:-0400
TZOFFSETTO:-0500
TZNAME:EST
DTSTART:20191103T060000
END:STANDARD
BEGIN:DAYLIGHT
TZOFFSETFROM:-0500
TZOFFSETTO:-0400
TZNAME:EDT
DTSTART:20200308T070000
END:DAYLIGHT
BEGIN:STANDARD
TZOFFSETFROM:-0400
TZOFFSETTO:-0500
TZNAME:EST
DTSTART:20201101T060000
END:STANDARD
BEGIN:DAYLIGHT
TZOFFSETFROM:-0500
TZOFFSETTO:-0400
TZNAME:EDT
DTSTART:20210314T070000
END:DAYLIGHT
BEGIN:STANDARD
TZOFFSETFROM:-0400
TZOFFSETTO:-0500
TZNAME:EST
DTSTART:20211107T060000
END:STANDARD
BEGIN:DAYLIGHT
TZOFFSETFROM:-0500
TZOFFSETTO:-0400
TZNAME:EDT
DTSTART:20220313T070000
END:DAYLIGHT
BEGIN:STANDARD
TZOFFSETFROM:-0400
TZOFFSETTO:-0500
TZNAME:EST
DTSTART:20221106T060000
END:STANDARD
BEGIN:DAYLIGHT
TZOFFSETFROM:-0500
TZOFFSETTO:-0400
TZNAME:EDT
DTSTART:20230312T070000
END:DAYLIGHT
BEGIN:STANDARD
TZOFFSETFROM:-0400
TZOFFSETTO:-0500
TZNAME:EST
DTSTART:20231105T060000
END:STANDARD
BEGIN:DAYLIGHT
TZOFFSETFROM:-0500
TZOFFSETTO:-0400
TZNAME:EDT
DTSTART:20240310T070000
END:DAYLIGHT
BEGIN:STANDARD
TZOFFSETFROM:-0400
TZOFFSETTO:-0500
TZNAME:EST
DTSTART:20241103T060000
END:STANDARD
BEGIN:DAYLIGHT
TZOFFSETFROM:-0500
TZOFFSETTO:-0400
TZNAME:EDT
DTSTART:20250309T070000
END:DAYLIGHT
BEGIN:STANDARD
TZOFFSETFROM:-0400
TZOFFSETTO:-0500
TZNAME:EST
DTSTART:20251102T060000
END:STANDARD
BEGIN:DAYLIGHT
TZOFFSETFROM:-0500
TZOFFSETTO:-0400
TZNAME:EDT
DTSTART:20260308T070000
END:DAYLIGHT
BEGIN:STANDARD
TZOFFSETFROM:-0400
TZOFFSETTO:-0500
TZNAME:EST
DTSTART:20261101T060000
END:STANDARD
BEGIN:DAYLIGHT
TZOFFSETFROM:-0500
TZOFFSETTO:-0400
TZNAME:EDT
DTSTART:20270314T070000
END:DAYLIGHT
BEGIN:STANDARD
TZOFFSETFROM:-0400
TZOFFSETTO:-0500
TZNAME:EST
DTSTART:20271107T060000
END:STANDARD
END:VTIMEZONE
BEGIN:VEVENT
DTSTART;TZID=America/New_York:20260414T183000
DTEND;TZID=America/New_York:20260414T203000
DTSTAMP:20260423T030039
CREATED:20260115T183146Z
LAST-MODIFIED:20260115T183146Z
UID:2614-1776191400-1776198600@nfmcivic.com
SUMMARY:April Meeting 2026
DESCRIPTION:The NFM community is invited to our monthly meeting as we discuss our upcoming community events and fundraisers\, local government happenings\, and hold a community discussion on how to improve our beautiful NFM neighborhoods!
URL:https://nfmcivic.com/event/april-meeting-2026/
LOCATION:NFM Rec Center\, 2000 N Recreation Park Way\, North Fort Myers\, FL\, 33917
END:VEVENT
BEGIN:VEVENT
DTSTART;TZID=America/New_York:20260310T183000
DTEND;TZID=America/New_York:20260310T203000
DTSTAMP:20260423T030039
CREATED:20260115T183109Z
LAST-MODIFIED:20260115T183109Z
UID:2612-1773167400-1773174600@nfmcivic.com
SUMMARY:March Meeting 2026
DESCRIPTION:The NFM community is invited to our monthly meeting as we discuss our upcoming community events and fundraisers\, local government happenings\, and hold a community discussion on how to improve our beautiful NFM neighborhoods!
URL:https://nfmcivic.com/event/march-meeting-2026/
LOCATION:NFM Rec Center\, 2000 N Recreation Park Way\, North Fort Myers\, FL\, 33917
END:VEVENT
BEGIN:VEVENT
DTSTART;TZID=America/New_York:20260210T183000
DTEND;TZID=America/New_York:20260210T203000
DTSTAMP:20260423T030039
CREATED:20260115T183032Z
LAST-MODIFIED:20260115T183032Z
UID:2610-1770748200-1770755400@nfmcivic.com
SUMMARY:February Meeting 2026
DESCRIPTION:The NFM community is invited to our monthly meeting as we discuss our upcoming community events and fundraisers\, local government happenings\, and hold a community discussion on how to improve our beautiful NFM neighborhoods!
URL:https://nfmcivic.com/event/february-meeting-2026/
LOCATION:NFM Rec Center\, 2000 N Recreation Park Way\, North Fort Myers\, FL\, 33917
END:VEVENT
BEGIN:VEVENT
DTSTART;TZID=America/New_York:20260113T183000
DTEND;TZID=America/New_York:20260113T203000
DTSTAMP:20260423T030039
CREATED:20251211T142412Z
LAST-MODIFIED:20251211T144937Z
UID:2548-1768329000-1768336200@nfmcivic.com
SUMMARY:January Meeting 2025
DESCRIPTION:The NFM community is invited to our monthly meeting as we discuss our upcoming community events and fundraisers\, local government happenings\, and hold a community discussion on how to improve our beautiful NFM neighborhoods!
URL:https://nfmcivic.com/event/january-meeting-2025/
LOCATION:NFM Rec Center\, 2000 N Recreation Park Way\, North Fort Myers\, FL\, 33917
END:VEVENT
BEGIN:VEVENT
DTSTART;VALUE=DATE:20251216
DTEND;VALUE=DATE:20251217
DTSTAMP:20260423T030039
CREATED:20251211T144812Z
LAST-MODIFIED:20251211T144828Z
UID:2556-1765843200-1765929599@nfmcivic.com
SUMMARY:Veterans Angel Tree Gifts Due
DESCRIPTION:Please make sure to return the gifts for your veteran angel by December 16th!
URL:https://nfmcivic.com/event/veterans-angel-tree-gifts-due/
LOCATION:NFM Rec Center\, 2000 N Recreation Park Way\, North Fort Myers\, FL\, 33917
END:VEVENT
BEGIN:VEVENT
DTSTART;TZID=America/New_York:20251212T180000
DTEND;TZID=America/New_York:20251212T200000
DTSTAMP:20260423T030039
CREATED:20251211T141420Z
LAST-MODIFIED:20251211T144802Z
UID:2543-1765562400-1765569600@nfmcivic.com
SUMMARY:Cocoa With Claus
DESCRIPTION:Join us December 12th for photos with Santa\, hot cocoa\, crafts\, and much more!
URL:https://nfmcivic.com/event/cocoa-with-claus/
LOCATION:NFM Rec Center\, 2000 N Recreation Park Way\, North Fort Myers\, FL\, 33917
END:VEVENT
BEGIN:VEVENT
DTSTART;TZID=America/New_York:20251015T080000
DTEND;TZID=America/New_York:20251015T170000
DTSTAMP:20260423T030039
CREATED:20251015T144754Z
LAST-MODIFIED:20251015T144844Z
UID:2487-1760515200-1760547600@nfmcivic.com
SUMMARY:NFM REC CENTER FALL FESTIVAL
DESCRIPTION:Fall Festival 2025 NFM EMAIL (1)
URL:https://nfmcivic.com/event/2487/
LOCATION:FL
END:VEVENT
BEGIN:VEVENT
DTSTART;TZID=America/New_York:20251015T080000
DTEND;TZID=America/New_York:20251015T170000
DTSTAMP:20260423T030039
CREATED:20251015T144708Z
LAST-MODIFIED:20251015T144708Z
UID:2485-1760515200-1760547600@nfmcivic.com
SUMMARY:Come out and join us at the Nations Choice Church this weekend for the fall festival!
DESCRIPTION:
URL:https://nfmcivic.com/event/come-out-and-join-us-at-the-nations-choice-church-this-weekend-for-the-fall-festival/
LOCATION:FL
END:VEVENT
BEGIN:VEVENT
DTSTART;TZID=America/New_York:20231212T183000
DTEND;TZID=America/New_York:20231212T203000
DTSTAMP:20260423T030039
CREATED:20231014T141024Z
LAST-MODIFIED:20231014T141024Z
UID:2262-1702405800-1702413000@nfmcivic.com
SUMMARY:December Meeting 2023
DESCRIPTION:Community is invited to our Monthly Meeting \nWe discuss our upcoming community events and fundraisers\, local government happenings\, community discussion on how to improve our beautiful North Fort Myers Neighborhoods.
URL:https://nfmcivic.com/event/december-meeting-2023/
LOCATION:NFM Rec Center\, 2000 N Recreation Park Way\, North Fort Myers\, FL\, 33917
CATEGORIES:Meeting
ORGANIZER;CN="NFM Civic Association":MAILTO:nfmcivic@gmail.com
END:VEVENT
BEGIN:VEVENT
DTSTART;TZID=America/New_York:20231209T110000
DTEND;TZID=America/New_York:20231209T150000
DTSTAMP:20260423T030039
CREATED:20231014T141632Z
LAST-MODIFIED:20231014T141632Z
UID:2264-1702119600-1702134000@nfmcivic.com
SUMMARY:2023 Christmas Santa Toy Parade
DESCRIPTION:Santa and his Elves will be parading through North Fort Myers \nDelivering toys at his Santa Stops to all NFM Children.
URL:https://nfmcivic.com/event/2023-christmas-santa-toy-parade/
LOCATION:FL
CATEGORIES:Community Event
ORGANIZER;CN="NFM Civic Association":MAILTO:nfmcivic@gmail.com
END:VEVENT
BEGIN:VEVENT
DTSTART;TZID=America/New_York:20231118T080000
DTEND;TZID=America/New_York:20231118T100000
DTSTAMP:20260423T030039
CREATED:20231014T132255Z
LAST-MODIFIED:20231014T132255Z
UID:2235-1700294400-1700301600@nfmcivic.com
SUMMARY:Nov 2023 Road Clean Up
DESCRIPTION:Help us Keep North Fort Myers Beautiful \nJoin us for a Road Clean Up! \nPondella Rd between US41 and Bus41
URL:https://nfmcivic.com/event/nov-2023-road-clean-up/
LOCATION:Big Lots Parking Lot\, 13970 N Cleveland Ave\, North Fort Myers\, FL\, 33903\, United States
CATEGORIES:Community Event
ORGANIZER;CN="NFM Civic Association":MAILTO:nfmcivic@gmail.com
END:VEVENT
BEGIN:VEVENT
DTSTART;TZID=America/New_York:20231114T183000
DTEND;TZID=America/New_York:20231114T203000
DTSTAMP:20260423T030039
CREATED:20231011T134641Z
LAST-MODIFIED:20231014T140759Z
UID:2213-1699986600-1699993800@nfmcivic.com
SUMMARY:November Meeting 2023
DESCRIPTION:Community is invited to our Monthly Meeting \nWe discuss our upcoming community events and fundraisers\, local government happenings\, community discussion on how to improve our beautiful North Fort Myers Neighborhoods.
URL:https://nfmcivic.com/event/november-meeting/
LOCATION:NFM Rec Center\, 2000 N Recreation Park Way\, North Fort Myers\, FL\, 33917
CATEGORIES:Meeting
END:VEVENT
BEGIN:VEVENT
DTSTART;TZID=America/New_York:20231101T130000
DTEND;TZID=America/New_York:20231208T170000
DTSTAMP:20260423T030039
CREATED:20231014T135746Z
LAST-MODIFIED:20231014T135746Z
UID:2252-1698843600-1702054800@nfmcivic.com
SUMMARY:2023 Angel Giving Tree
DESCRIPTION:Help Us to Help Our Veterans! \n \nStop by the NFM Rec Center Lobby to pick up your Angel today!
URL:https://nfmcivic.com/event/2023-angel-giving-tree/
LOCATION:NFM Rec Center\, 2000 N Recreation Park Way\, North Fort Myers\, FL\, 33917
CATEGORIES:Community Event
ORGANIZER;CN="NFM Civic Association":MAILTO:nfmcivic@gmail.com
END:VEVENT
BEGIN:VEVENT
DTSTART;TZID=America/New_York:20231101T080000
DTEND;TZID=America/New_York:20231130T170000
DTSTAMP:20260423T030039
CREATED:20231014T140409Z
LAST-MODIFIED:20231014T140409Z
UID:2255-1698825600-1701363600@nfmcivic.com
SUMMARY:2023 Santa Toy Drive
DESCRIPTION:We are Collecting New Toys for ages 0-18 \nCollection Boxes are at Businesses around North Fort Myers
URL:https://nfmcivic.com/event/2023-santa-toy-drive/
LOCATION:FL
CATEGORIES:Community Event
ORGANIZER;CN="NFM Civic Association":MAILTO:nfmcivic@gmail.com
END:VEVENT
BEGIN:VEVENT
DTSTART;TZID=America/New_York:20231031T180000
DTEND;TZID=America/New_York:20231031T200000
DTSTAMP:20260423T030039
CREATED:20231014T134728Z
LAST-MODIFIED:20231014T134728Z
UID:2244-1698775200-1698782400@nfmcivic.com
SUMMARY:2023 Trunk or Treat
DESCRIPTION:Come find our Trunk filled with Candy!!! \n \nCome enjoy all of the fall festivities with your friends and families! \nFrom endless rows of cars full of candy\, to food trucks\, and inflatables\, there’s so much to do and see!
URL:https://nfmcivic.com/event/2023-trunk-or-treat/
LOCATION:Faith Assembly\, 7101 Bayshore Rd\, North Fort Myers\, FL\, 33917\, United States
CATEGORIES:Community Event
END:VEVENT
BEGIN:VEVENT
DTSTART;TZID=America/New_York:20231020T180000
DTEND;TZID=America/New_York:20231020T210000
DTSTAMP:20260423T030039
CREATED:20231014T133832Z
LAST-MODIFIED:20231014T133832Z
UID:2239-1697824800-1697835600@nfmcivic.com
SUMMARY:2023 Fall Festival
DESCRIPTION:We are having a booth at the NFM Rec Center’s Family Fall Festival.  \nCome find us for Games\, Activities\, Prizes\, and More!
URL:https://nfmcivic.com/event/2023-fall-festival/
LOCATION:FL
CATEGORIES:Community Event
END:VEVENT
BEGIN:VEVENT
DTSTART;TZID=America/New_York:20210306T183000
DTEND;TZID=America/New_York:20210306T200000
DTSTAMP:20260423T030039
CREATED:20210203T222309Z
LAST-MODIFIED:20210203T222309Z
UID:1650-1615055400-1615060800@nfmcivic.com
SUMMARY:FREE MOVIE IN THE PARK
DESCRIPTION:
URL:https://nfmcivic.com/event/free-movie-in-the-park/
LOCATION:NFM Rec Center\, 2000 N Recreation Park Way\, North Fort Myers\, FL\, 33917
END:VEVENT
BEGIN:VEVENT
DTSTART;TZID=America/New_York:20210209T183000
DTEND;TZID=America/New_York:20210209T203000
DTSTAMP:20260423T030039
CREATED:20210203T222656Z
LAST-MODIFIED:20210203T222701Z
UID:1654-1612895400-1612902600@nfmcivic.com
SUMMARY:Monthly Board Meeting
DESCRIPTION:
URL:https://nfmcivic.com/event/monthly-board-meeting-2/
LOCATION:NFM Rec Center\, 2000 N Recreation Park Way\, North Fort Myers\, FL\, 33917
CATEGORIES:Meeting
ORGANIZER;CN="NFM Civic Association":MAILTO:nfmcivic@gmail.com
END:VEVENT
BEGIN:VEVENT
DTSTART;TZID=America/New_York:20201123T160000
DTEND;TZID=America/New_York:20201123T200000
DTSTAMP:20260423T030039
CREATED:20201117T154610Z
LAST-MODIFIED:20201117T154839Z
UID:1507-1606147200-1606161600@nfmcivic.com
SUMMARY:North Fort Myers Civic Association Cruise In Toy Drive
DESCRIPTION:The North Fort Myers Civic Association will be collecting unwrapped toys.\nFor each toy donated you will receive a complimentary Raffle ticket. \nAll proceeds will be distributed by the North Fort Myers Civic Association to the children of Palmona Park on December 19th
URL:https://nfmcivic.com/event/north-fort-myers-civic-association-cruise-in-toy-drive/
LOCATION:Applebee’s North Fort Myers\, 15151 N Cleveland Avenue\, North Fort Myers\, FL\, 33903\, United States
CATEGORIES:Community Event
ORGANIZER;CN="NFM Civic Association":MAILTO:nfmcivic@gmail.com
END:VEVENT
BEGIN:VEVENT
DTSTART;TZID=America/New_York:20201013T183000
DTEND;TZID=America/New_York:20201013T203000
DTSTAMP:20260423T030039
CREATED:20200930T012809Z
LAST-MODIFIED:20200930T015227Z
UID:1342-1602613800-1602621000@nfmcivic.com
SUMMARY:Monthly Board Meeting
DESCRIPTION:We are thankful the NFM Chamber of Commerce has invited the NFM Civic Association to host our meetings for the remainder of 2020.\n At this upcoming meeting we will be passing out our new membership cards to all who attend.
URL:https://nfmcivic.com/event/monthly-board-meeting/
LOCATION:NFM Chamber of Commerce\, 2787 N TAMIAMI TRAIL\, NORTH FORT MYERS\, FL\, 33903
CATEGORIES:Meeting
ORGANIZER;CN="NFM Civic Association":MAILTO:nfmcivic@gmail.com
END:VEVENT
BEGIN:VEVENT
DTSTART;TZID=America/New_York:20201010T070000
DTEND;TZID=America/New_York:20201010T133000
DTSTAMP:20260423T030039
CREATED:20200930T014054Z
LAST-MODIFIED:20200930T014541Z
UID:1348-1602313200-1602336600@nfmcivic.com
SUMMARY:Calvin Peete Classic
DESCRIPTION:Calvin Peete was a true pioneer in the world of golf. The winner of 12 PGA tournament titles\, 2-time member of the United States Ryder Cup Team\, and a Vardon Trophy recipient for the PGA tour’s lowest scoring average in 1983\, Calvin Peete was also the leading African-American PGA tournament title holder of all-time prior to the emergence of Tiger Woods. Calvin Peete was not only an inspiration to future generations of African American Golfers\, Calvin Peete’s gracious style\, and professionalism made him a highly and truly respected gentleman both on and off the course by golfers as well as non-golfers worldwide. \n07:00 AM	Registration	        Parking lot\n08:00 AM	Shotgun Start\n08:00 AM	Beverage Stations	Located at hole #5 & 14\n12:30 PM	Lunch	Clubhouse \nClassic golf tournament $85. a person to play\, prizes\, silent auctions\, raffles\, swag bag\, and for lunch! Only taking 18 teams this year so get your reservation in now. Call Wendy at 239-707-6722 to play\, be a sponsor\, donate an auction item or an item for the swag bag.
URL:https://nfmcivic.com/event/calvin-peete-classic-2/
LOCATION:Del Tura Golf & Country Club\, 18621 North Tamiami Trail\, North Fort Myers\, FL\, 33903
CATEGORIES:Community Event
ORGANIZER;CN="NFM Chamber of Commerce":MAILTO:wendy@nfmchamber.org
END:VEVENT
BEGIN:VEVENT
DTSTART;VALUE=DATE:20190209
DTEND;VALUE=DATE:20190211
DTSTAMP:20260423T030039
CREATED:20180819T221330Z
LAST-MODIFIED:20180819T221442Z
UID:635-1549670400-1549843199@nfmcivic.com
SUMMARY:Wiffle Ball Bash
DESCRIPTION:https://nfmcivic.com/wiffle-ball/
URL:https://nfmcivic.com/event/wiffle-ball-bash/
LOCATION:NFM Rec Center\, 2000 N Recreation Park Way\, North Fort Myers\, FL\, 33917
CATEGORIES:Community Event
END:VEVENT
BEGIN:VEVENT
DTSTART;TZID=America/New_York:20181215T093000
DTEND;TZID=America/New_York:20181215T210000
DTSTAMP:20260423T030039
CREATED:20180819T215938Z
LAST-MODIFIED:20180819T220011Z
UID:627-1544866200-1544907600@nfmcivic.com
SUMMARY:Community Christmas
DESCRIPTION:https://nfmcivic.com/community-christmas/
URL:https://nfmcivic.com/event/community-christmas/
LOCATION:NFM Rec Center\, 2000 N Recreation Park Way\, North Fort Myers\, FL\, 33917
END:VEVENT
BEGIN:VEVENT
DTSTART;TZID=America/New_York:20181113T183000
DTEND;TZID=America/New_York:20181113T203000
DTSTAMP:20260423T030039
CREATED:20180703T231808Z
LAST-MODIFIED:20180703T231808Z
UID:449-1542133800-1542141000@nfmcivic.com
SUMMARY:Meeting
DESCRIPTION:
URL:https://nfmcivic.com/event/meeting-5/
LOCATION:NFM Rec Center\, 2000 N Recreation Park Way\, North Fort Myers\, FL\, 33917
CATEGORIES:Meeting
ORGANIZER;CN="NFM Civic Association":MAILTO:nfmcivic@gmail.com
END:VEVENT
BEGIN:VEVENT
DTSTART;TZID=America/New_York:20181020T063000
DTEND;TZID=America/New_York:20181020T210000
DTSTAMP:20260423T030039
CREATED:20180708T121453Z
LAST-MODIFIED:20180708T122049Z
UID:498-1540017000-1540069200@nfmcivic.com
SUMMARY:Calvin Peete Classic
DESCRIPTION:
URL:https://nfmcivic.com/event/calvin-peete-classic/
LOCATION:Magnolia Country Club
END:VEVENT
BEGIN:VEVENT
DTSTART;TZID=America/New_York:20181019T180000
DTEND;TZID=America/New_York:20181019T210000
DTSTAMP:20260423T030039
CREATED:20180819T220543Z
LAST-MODIFIED:20180819T220543Z
UID:631-1539972000-1539982800@nfmcivic.com
SUMMARY:Fall Festival
DESCRIPTION:https://nfmcivic.com/fall-festival/
URL:https://nfmcivic.com/event/fall-festival/
LOCATION:NFM Rec Center\, 2000 N Recreation Park Way\, North Fort Myers\, FL\, 33917
CATEGORIES:Community Event
END:VEVENT
BEGIN:VEVENT
DTSTART;TZID=America/New_York:20181009T183000
DTEND;TZID=America/New_York:20181009T203000
DTSTAMP:20260423T030039
CREATED:20180703T231627Z
LAST-MODIFIED:20180703T231627Z
UID:447-1539109800-1539117000@nfmcivic.com
SUMMARY:Meeting
DESCRIPTION:
URL:https://nfmcivic.com/event/meeting-4/
LOCATION:NFM Rec Center\, 2000 N Recreation Park Way\, North Fort Myers\, FL\, 33917
CATEGORIES:Meeting
ORGANIZER;CN="NFM Civic Association":MAILTO:nfmcivic@gmail.com
END:VEVENT
BEGIN:VEVENT
DTSTART;TZID=America/New_York:20180925T180000
DTEND;TZID=America/New_York:20180925T210000
DTSTAMP:20260423T030039
CREATED:20180819T220814Z
LAST-MODIFIED:20180819T220950Z
UID:633-1537898400-1537909200@nfmcivic.com
SUMMARY:Meet and Greet
DESCRIPTION:https://nfmcivic.com/candidate-meet-and-greet/
URL:https://nfmcivic.com/event/meet-and-greet/
LOCATION:FL
CATEGORIES:Community Event
END:VEVENT
BEGIN:VEVENT
DTSTART;TZID=America/New_York:20180911T183000
DTEND;TZID=America/New_York:20180911T203000
DTSTAMP:20260423T030039
CREATED:20180703T231332Z
LAST-MODIFIED:20180703T231332Z
UID:445-1536690600-1536697800@nfmcivic.com
SUMMARY:Meeting
DESCRIPTION:
URL:https://nfmcivic.com/event/meeting-3/
LOCATION:NFM Rec Center\, 2000 N Recreation Park Way\, North Fort Myers\, FL\, 33917
CATEGORIES:Meeting
ORGANIZER;CN="NFM Civic Association":MAILTO:nfmcivic@gmail.com
END:VEVENT
BEGIN:VEVENT
DTSTART;TZID=America/New_York:20180814T183000
DTEND;TZID=America/New_York:20180814T203000
DTSTAMP:20260423T030039
CREATED:20180703T231127Z
LAST-MODIFIED:20180703T231127Z
UID:443-1534271400-1534278600@nfmcivic.com
SUMMARY:Meeting
DESCRIPTION:
URL:https://nfmcivic.com/event/meeting-2/
LOCATION:NFM Rec Center\, 2000 N Recreation Park Way\, North Fort Myers\, FL\, 33917
CATEGORIES:Meeting
ORGANIZER;CN="NFM Civic Association":MAILTO:nfmcivic@gmail.com
END:VEVENT
END:VCALENDAR