BEGIN:VCALENDAR
VERSION:2.0
PRODID:-//North Fort Myers Civic Association - ECPv6.15.11//NONSGML v1.0//EN
CALSCALE:GREGORIAN
METHOD:PUBLISH
X-ORIGINAL-URL:https://nfmcivic.com
X-WR-CALDESC:Events for North Fort Myers Civic Association
REFRESH-INTERVAL;VALUE=DURATION:PT1H
X-Robots-Tag:noindex
X-PUBLISHED-TTL:PT1H
BEGIN:VTIMEZONE
TZID:America/New_York
BEGIN:DAYLIGHT
TZOFFSETFROM:-0500
TZOFFSETTO:-0400
TZNAME:EDT
DTSTART:20170312T070000
END:DAYLIGHT
BEGIN:STANDARD
TZOFFSETFROM:-0400
TZOFFSETTO:-0500
TZNAME:EST
DTSTART:20171105T060000
END:STANDARD
BEGIN:DAYLIGHT
TZOFFSETFROM:-0500
TZOFFSETTO:-0400
TZNAME:EDT
DTSTART:20180311T070000
END:DAYLIGHT
BEGIN:STANDARD
TZOFFSETFROM:-0400
TZOFFSETTO:-0500
TZNAME:EST
DTSTART:20181104T060000
END:STANDARD
BEGIN:DAYLIGHT
TZOFFSETFROM:-0500
TZOFFSETTO:-0400
TZNAME:EDT
DTSTART:20190310T070000
END:DAYLIGHT
BEGIN:STANDARD
TZOFFSETFROM:-0400
TZOFFSETTO:-0500
TZNAME:EST
DTSTART:20191103T060000
END:STANDARD
END:VTIMEZONE
BEGIN:VEVENT
DTSTART;TZID=America/New_York:20180925T180000
DTEND;TZID=America/New_York:20180925T210000
DTSTAMP:20260423T012647
CREATED:20180819T220814Z
LAST-MODIFIED:20180819T220950Z
UID:633-1537898400-1537909200@nfmcivic.com
SUMMARY:Meet and Greet
DESCRIPTION:https://nfmcivic.com/candidate-meet-and-greet/
URL:https://nfmcivic.com/event/meet-and-greet/
LOCATION:FL
CATEGORIES:Community Event
END:VEVENT
BEGIN:VEVENT
DTSTART;TZID=America/New_York:20180804T180000
DTEND;TZID=America/New_York:20180804T210000
DTSTAMP:20260423T012647
CREATED:20180703T232518Z
LAST-MODIFIED:20180703T234015Z
UID:451-1533405600-1533416400@nfmcivic.com
SUMMARY:Baseball Community Night
DESCRIPTION:
URL:https://nfmcivic.com/event/baseball-community-night/
LOCATION:Century Link Sports Complex\, 14100 Six Mile Cypress Parkway\, Fort Myers\, FL\, 33912\, United States
CATEGORIES:Community Event
END:VEVENT
BEGIN:VEVENT
DTSTART;TZID=America/New_York:20180728T100000
DTEND;TZID=America/New_York:20180728T160000
DTSTAMP:20260423T012647
CREATED:20180704T000048Z
LAST-MODIFIED:20180704T000048Z
UID:454-1532772000-1532793600@nfmcivic.com
SUMMARY:NFM Art Walk
DESCRIPTION:
URL:https://nfmcivic.com/event/nfm-art-walk/
LOCATION:Hancock Bridge Square\, 13350 N Cleveland Ave\, North Fort Myers\, FL\, 33903\, United States
CATEGORIES:Community Event
END:VEVENT
END:VCALENDAR