BEGIN:VCALENDAR
VERSION:2.0
PRODID:-//North Fort Myers Civic Association - ECPv6.15.11//NONSGML v1.0//EN
CALSCALE:GREGORIAN
METHOD:PUBLISH
X-ORIGINAL-URL:https://nfmcivic.com
X-WR-CALDESC:Events for North Fort Myers Civic Association
REFRESH-INTERVAL;VALUE=DURATION:PT1H
X-Robots-Tag:noindex
X-PUBLISHED-TTL:PT1H
BEGIN:VTIMEZONE
TZID:America/New_York
BEGIN:DAYLIGHT
TZOFFSETFROM:-0500
TZOFFSETTO:-0400
TZNAME:EDT
DTSTART:20220313T070000
END:DAYLIGHT
BEGIN:STANDARD
TZOFFSETFROM:-0400
TZOFFSETTO:-0500
TZNAME:EST
DTSTART:20221106T060000
END:STANDARD
BEGIN:DAYLIGHT
TZOFFSETFROM:-0500
TZOFFSETTO:-0400
TZNAME:EDT
DTSTART:20230312T070000
END:DAYLIGHT
BEGIN:STANDARD
TZOFFSETFROM:-0400
TZOFFSETTO:-0500
TZNAME:EST
DTSTART:20231105T060000
END:STANDARD
BEGIN:DAYLIGHT
TZOFFSETFROM:-0500
TZOFFSETTO:-0400
TZNAME:EDT
DTSTART:20240310T070000
END:DAYLIGHT
BEGIN:STANDARD
TZOFFSETFROM:-0400
TZOFFSETTO:-0500
TZNAME:EST
DTSTART:20241103T060000
END:STANDARD
END:VTIMEZONE
BEGIN:VEVENT
DTSTART;TZID=America/New_York:20231101T080000
DTEND;TZID=America/New_York:20231130T170000
DTSTAMP:20260424T155216
CREATED:20231014T140409Z
LAST-MODIFIED:20231014T140409Z
UID:2255-1698825600-1701363600@nfmcivic.com
SUMMARY:2023 Santa Toy Drive
DESCRIPTION:We are Collecting New Toys for ages 0-18 \nCollection Boxes are at Businesses around North Fort Myers
URL:https://nfmcivic.com/event/2023-santa-toy-drive/
CATEGORIES:Community Event
ORGANIZER;CN="NFM Civic Association":MAILTO:nfmcivic@gmail.com
END:VEVENT
BEGIN:VEVENT
DTSTART;TZID=America/New_York:20231101T130000
DTEND;TZID=America/New_York:20231208T170000
DTSTAMP:20260424T155216
CREATED:20231014T135746Z
LAST-MODIFIED:20231014T135746Z
UID:2252-1698843600-1702054800@nfmcivic.com
SUMMARY:2023 Angel Giving Tree
DESCRIPTION:Help Us to Help Our Veterans! \n \nStop by the NFM Rec Center Lobby to pick up your Angel today!
URL:https://nfmcivic.com/event/2023-angel-giving-tree/
LOCATION:NFM Rec Center\, 2000 N Recreation Park Way\, North Fort Myers\, FL\, 33917
CATEGORIES:Community Event
ORGANIZER;CN="NFM Civic Association":MAILTO:nfmcivic@gmail.com
END:VEVENT
END:VCALENDAR